BEGIN:VCALENDAR
VERSION:2.0
PRODID:-//ChatGPT//Parish Announcements (EN) 2026-04-19//EN
CALSCALE:GREGORIAN
METHOD:PUBLISH
BEGIN:VEVENT
UID:via-lucis-easter-season@sanignacio-en
DTSTAMP:20260419T000000Z
DTSTART;TZID=America/Puerto_Rico:20260425T090000
DTEND;TZID=America/Puerto_Rico:20260425T100000
SUMMARY:Via Lucis rosary
DESCRIPTION:We will be praying the Via Lucis rosary on Saturdays after the 8:00 a.m. Mass. Everyone is invited to participate.
LOCATION:Parish
RRULE:FREQ=WEEKLY;BYDAY=SA;UNTIL=20260606T235959Z
END:VEVENT
BEGIN:VEVENT
UID:20260420-melissa-martinez-reflection@sanignacio-en
DTSTAMP:20260419T000000Z
DTSTART;TZID=America/Puerto_Rico:20260420T090000
DTEND;TZID=America/Puerto_Rico:20260420T100000
SUMMARY:Reflection by Melissa Martinez
DESCRIPTION:La Pastoral de la Salud invites you to a reflection by Melissa Martinez “Dios sigue visitándonos vivir acompañados por el Sol que nace de lo alto” on Monday\, April 20 at 9:00am at the parish. It will be held in Spanish.
LOCATION:Parish
END:VEVENT
BEGIN:VEVENT
UID:20260702-20260710-ignatian-retreat@sanignacio-en
DTSTAMP:20260419T000000Z
DTSTART;VALUE=DATE:20260702
DTEND;VALUE=DATE:20260710
SUMMARY:8-day Ignatian Spiritual Exercises retreat (a silent retreat)
DESCRIPTION:El Instituto de Formación Ignaciana y la Comunidad de Vida Cristiana are pleased to announce an 8-day Ignatian Spiritual Exercises retreat (a silent retreat)\, to be held from July 2 to July 9\, 2026\, at Casa Padre Fernando in Caguas. The retreat will be directed by Fr. Luis O. Jiménez\, SJ. We encourage you to join us! For more information please access Connect or the bulletin board.
LOCATION:Casa Padre Fernando in Caguas
END:VEVENT
END:VCALENDAR
