BEGIN:VCALENDAR
VERSION:2.0
PRODID:-//ChatGPT//Parish Announcements Custom (EN)//EN
CALSCALE:GREGORIAN
METHOD:PUBLISH
BEGIN:VEVENT
UID:via-lucis-easter-season-2026@sanignacio-en
DTSTAMP:20260426T000000Z
DTSTART;TZID=America/Puerto_Rico:20260502T090000
DTEND;TZID=America/Puerto_Rico:20260502T100000
SUMMARY:Via Lucis rosary
DESCRIPTION:We will be praying the Via Lucis rosary on Saturdays after the 8:00 a.m. Mass. Everyone is invited to participate.
LOCATION:Parish
RRULE:FREQ=WEEKLY;BYDAY=SA;UNTIL=20260531T035959Z
END:VEVENT
BEGIN:VEVENT
UID:20260429-larry-searles-talk-mass-taize@sanignacio-en
DTSTAMP:20260426T000000Z
DTSTART;TZID=America/Puerto_Rico:20260429T160000
DTEND;TZID=America/Puerto_Rico:20260429T190000
SUMMARY:Talk\, Mass\, and Taizé-style adoration with Father Larry Searles\, SJ
DESCRIPTION:This Wednesday\, April 29th\, Father Larry Searles\, SJ\, will join us at the Parish to give a talk at 4:00 pm\, followed by Mass at 5:30 pm and then a Taizé-style adoration. Afterward\, we will have a get-together at the parish house\; you are welcome to bring something if you wish.
LOCATION:Parish / Parish house
END:VEVENT
BEGIN:VEVENT
UID:food-sunday-first-sunday@sanignacio-en
DTSTAMP:20260426T000000Z
DTSTART;VALUE=DATE:20260503
DTEND;VALUE=DATE:20260504
SUMMARY:Food Sunday
DESCRIPTION:Next Sunday\, May 3rd\, is the first Sunday of the month\, so it is Food Sunday. We ask that you bring your non-perishable food donations or cash donations and leave them in the containers at the exit of the church. A color printed page posted at the entrance to the church right now to indicate the items most useful to purchase and donate to the causes we support. We appreciate your solidarity and support of the needy communities to which we deliver the food.
LOCATION:Church
RRULE:FREQ=MONTHLY;BYDAY=SU;BYSETPOS=1
END:VEVENT
BEGIN:VEVENT
UID:20260702-20260710-ignatian-retreat@sanignacio-en
DTSTAMP:20260426T000000Z
DTSTART;VALUE=DATE:20260702
DTEND;VALUE=DATE:20260710
SUMMARY:8-day Ignatian Spiritual Exercises retreat (a silent retreat)
DESCRIPTION:El Instituto de Formación Ignaciana y la Comunidad de Vida Cristiana are pleased to announce an 8-day Ignatian Spiritual Exercises retreat (a silent retreat)\, to be held from July 2 to July 9\, 2026\, at Casa Padre Fernando in Caguas. The retreat will be directed by Fr. Luis O. Jiménez\, SJ. We encourage you to join us! For more information\, please access Connect or the bulletin board.
LOCATION:Casa Padre Fernando in Caguas
END:VEVENT
END:VCALENDAR
