BEGIN:VCALENDAR
VERSION:2.0
PRODID:-//ChatGPT//Parish Announcements Custom (ES)//EN
CALSCALE:GREGORIAN
METHOD:PUBLISH
BEGIN:VEVENT
UID:via-lucis-tiempo-pascual-2026@sanignacio-es
DTSTAMP:20260426T000000Z
DTSTART;TZID=America/Puerto_Rico:20260502T090000
DTEND;TZID=America/Puerto_Rico:20260502T100000
SUMMARY:Rosario Vía Lucis
DESCRIPTION:Estaremos rezando el rosario Vía Lucis los sábados después de la misa de 8:00a.m. Todos están invitados a participar.
LOCATION:Parroquia
RRULE:FREQ=WEEKLY;BYDAY=SA;UNTIL=20260531T035959Z
END:VEVENT
BEGIN:VEVENT
UID:20260429-charla-misa-taize-larry-searles@sanignacio-es
DTSTAMP:20260426T000000Z
DTSTART;TZID=America/Puerto_Rico:20260429T160000
DTEND;TZID=America/Puerto_Rico:20260429T190000
SUMMARY:Charla\, misa y adoración tipo Taizé con el Padre Larry Searles\, SJ
DESCRIPTION:En la Parroquia este miércoles 29 de abril nos acompañará el Padre Larry Searles\, SJ para dar una charla a las 4:00 pm y luego celebrará la misa de 5:30 seguido de una adoración tipo Taizé. Luego tendremos un compartir\, en la casa parroquial\, pueden traer algo si así lo desean.
LOCATION:Parroquia / Casa parroquial
END:VEVENT
BEGIN:VEVENT
UID:food-sunday-primer-domingo@sanignacio-es
DTSTAMP:20260426T000000Z
DTSTART;VALUE=DATE:20260503
DTEND;VALUE=DATE:20260504
SUMMARY:Recogido de alimentos no perecederos o dinero en efectivo
DESCRIPTION:El próximo domingo 3 de mayo\, primer domingo del mes\, es día de recogido de alimentos no perecederos o dinero en efectivo. Le pedimos que lo depositen en los contenedores ubicados a la salida de la iglesia. Agradecemos su solidaridad y apoyo.
LOCATION:Iglesia
RRULE:FREQ=MONTHLY;BYDAY=SU;BYSETPOS=1
END:VEVENT
BEGIN:VEVENT
UID:20260702-20260710-ejercicios-ignacianos@sanignacio-es
DTSTAMP:20260426T000000Z
DTSTART;VALUE=DATE:20260702
DTEND;VALUE=DATE:20260710
SUMMARY:Ejercicios Espirituales Ignacianos de 8 días en silencio
DESCRIPTION:El Instituto de Formación Ignaciana y la Comunidad de Vida Cristiana se complace en anunciarles la tanda de Ejercicios Espirituales Ignacianos de 8 días en silencio a celebrarse del 2 al 9 de julio de 2026\, en Casa Padre Fernando en Caguas. Director de los ejercicios será el P. Luis O. Jiménez\, SJ. ¡Anímense! Para más información ver la aplicación “Connect” y los tablones de edicto
LOCATION:Casa Padre Fernando en Caguas
END:VEVENT
END:VCALENDAR
